BEGIN:VCALENDAR
VERSION:2.0
PRODID:-//wp-events-plugin.com//7.2.3.1//EN
TZID:America/Los_Angeles
X-WR-TIMEZONE:America/Los_Angeles
BEGIN:VEVENT
UID:27@capitalblackchamber.org
DTSTART;TZID=America/Los_Angeles:20200226T090000
DTEND;TZID=America/Los_Angeles:20200226T110000
DTSTAMP:20200225T213938Z
URL:https://capitalblackchamber.org/events/new-membership-orientation/
SUMMARY:New Member Orientation
DESCRIPTION:
LOCATION:CAPBCC Office\, 5770 Freeport Blvd #44\, Sacramento\, CA\, 95822\,
  United States
X-APPLE-STRUCTURED-LOCATION;VALUE=URI;X-ADDRESS=5770 Freeport Blvd #44\, Sa
 cramento\, CA\, 95822\, United States;X-APPLE-RADIUS=100;X-TITLE=CAPBCC Of
 fice:geo:0,0
END:VEVENT
BEGIN:VTIMEZONE
TZID:America/Los_Angeles
X-LIC-LOCATION:America/Los_Angeles
BEGIN:STANDARD
DTSTART:20191103T010000
TZOFFSETFROM:-0700
TZOFFSETTO:-0800
TZNAME:PST
END:STANDARD
END:VTIMEZONE
END:VCALENDAR