BEGIN:VCALENDAR
VERSION:2.0
PRODID:-//wp-events-plugin.com//7.2.3.1//EN
TZID:America/Los_Angeles
X-WR-TIMEZONE:America/Los_Angeles
BEGIN:VEVENT
UID:63@capitalblackchamber.org
DTSTART;TZID=America/Los_Angeles:20220317T090000
DTEND;TZID=America/Los_Angeles:20220317T103000
DTSTAMP:20220216T191459Z
URL:https://capitalblackchamber.org/events/new-member-orientation-meeting/
SUMMARY:New Member Orientation Meeting: Local Chamber Collaborative Event
DESCRIPTION:
LOCATION:\, \, 
X-APPLE-STRUCTURED-LOCATION;VALUE=URI;X-ADDRESS=\, ;X-APPLE-RADIUS=100;X-TI
 TLE=:geo:0,0
END:VEVENT
BEGIN:VTIMEZONE
TZID:America/Los_Angeles
X-LIC-LOCATION:America/Los_Angeles
BEGIN:DAYLIGHT
DTSTART:20220313T030000
TZOFFSETFROM:-0800
TZOFFSETTO:-0700
TZNAME:PDT
END:DAYLIGHT
END:VTIMEZONE
END:VCALENDAR