BEGIN:VCALENDAR
VERSION:2.0
PRODID:-//wp-events-plugin.com//7.2.3.1//EN
TZID:America/Los_Angeles
X-WR-TIMEZONE:America/Los_Angeles
BEGIN:VEVENT
UID:38@capitalblackchamber.org
DTSTART;TZID=America/Los_Angeles:20200629T090000
DTEND;TZID=America/Los_Angeles:20200629T110000
DTSTAMP:20200619T205913Z
URL:https://capitalblackchamber.org/events/local-collaborative-new-member-
 orientation/
SUMMARY:Local Collaborative New Member Orientation
DESCRIPTION:
END:VEVENT
BEGIN:VTIMEZONE
TZID:America/Los_Angeles
X-LIC-LOCATION:America/Los_Angeles
BEGIN:DAYLIGHT
DTSTART:20200308T030000
TZOFFSETFROM:-0800
TZOFFSETTO:-0700
TZNAME:PDT
END:DAYLIGHT
END:VTIMEZONE
END:VCALENDAR